BEGIN:VCALENDAR
VERSION:2.0
PRODID:-//Stronger Roots - ECPv6.15.20//NONSGML v1.0//EN
CALSCALE:GREGORIAN
METHOD:PUBLISH
X-ORIGINAL-URL:https://strongerroots.org
X-WR-CALDESC:Events for Stronger Roots
REFRESH-INTERVAL;VALUE=DURATION:PT1H
X-Robots-Tag:noindex
X-PUBLISHED-TTL:PT1H
BEGIN:VTIMEZONE
TZID:UTC
BEGIN:STANDARD
TZOFFSETFROM:+0000
TZOFFSETTO:+0000
TZNAME:UTC
DTSTART:20240101T000000
END:STANDARD
END:VTIMEZONE
BEGIN:VEVENT
DTSTART;TZID=UTC:20251215T080000
DTEND;TZID=UTC:20251215T170000
DTSTAMP:20260419T131948
CREATED:20251110T130350Z
LAST-MODIFIED:20251110T130642Z
UID:458-1765785600-1765818000@strongerroots.org
SUMMARY:Support groups for survivors and families
DESCRIPTION: Change in family court won’t come from the top down—it starts with everyday people raising their voices. You have more power than you realize to demand reform. \n Here are three tangible steps you can take right now: \n\n📝 Write to Lawmakers\n Download our advocacy letter templates\, personalize them with your story\, and mail them to Ohio decision-makers.\n📣 Show Up in Community\n Attend awareness events\, support group meetings\, and rallies. Your presence makes this issue visible.\n🌍 Educate Your Network\n Share resources about coercive control and parental alienation on social media. Each share sparks awareness.\n\nWhy Your Voice Matters:\n Lawmakers pay attention to the issues that generate the most public demand. By taking even one of these steps\, you plant seeds of reform that will grow into stronger protections for families. \n 
URL:https://strongerroots.org/event/support-groups-for-survivors-and-families-2/
ATTACH;FMTTYPE=image/webp:https://strongerroots.org/wp-content/uploads/2025/11/community-1.webp
END:VEVENT
BEGIN:VEVENT
DTSTART;TZID=UTC:20251215T080000
DTEND;TZID=UTC:20251215T170000
DTSTAMP:20260419T131948
CREATED:20251110T130307Z
LAST-MODIFIED:20251110T130655Z
UID:455-1765785600-1765818000@strongerroots.org
SUMMARY:Speaking engagements & trainings
DESCRIPTION: Change in family court won’t come from the top down—it starts with everyday people raising their voices. You have more power than you realize to demand reform. \n Here are three tangible steps you can take right now: \n\n📝 Write to Lawmakers\n Download our advocacy letter templates\, personalize them with your story\, and mail them to Ohio decision-makers.\n📣 Show Up in Community\n Attend awareness events\, support group meetings\, and rallies. Your presence makes this issue visible.\n🌍 Educate Your Network\n Share resources about coercive control and parental alienation on social media. Each share sparks awareness.\n\nWhy Your Voice Matters:\n Lawmakers pay attention to the issues that generate the most public demand. By taking even one of these steps\, you plant seeds of reform that will grow into stronger protections for families. \n 
URL:https://strongerroots.org/event/speaking-engagements-trainings-2/
ATTACH;FMTTYPE=image/webp:https://strongerroots.org/wp-content/uploads/2025/11/community-1.webp
END:VEVENT
BEGIN:VEVENT
DTSTART;TZID=UTC:20251215T080000
DTEND;TZID=UTC:20251215T170000
DTSTAMP:20260419T131948
CREATED:20251110T130013Z
LAST-MODIFIED:20251110T130714Z
UID:453-1765785600-1765818000@strongerroots.org
SUMMARY:Community awareness campaigns
DESCRIPTION: Change in family court won’t come from the top down—it starts with everyday people raising their voices. You have more power than you realize to demand reform. \n Here are three tangible steps you can take right now: \n\n📝 Write to Lawmakers\n Download our advocacy letter templates\, personalize them with your story\, and mail them to Ohio decision-makers.\n📣 Show Up in Community\n Attend awareness events\, support group meetings\, and rallies. Your presence makes this issue visible.\n🌍 Educate Your Network\n Share resources about coercive control and parental alienation on social media. Each share sparks awareness.\n\nWhy Your Voice Matters:\n Lawmakers pay attention to the issues that generate the most public demand. By taking even one of these steps\, you plant seeds of reform that will grow into stronger protections for families. \n 
URL:https://strongerroots.org/event/community-awareness-campaigns-2/
ATTACH;FMTTYPE=image/webp:https://strongerroots.org/wp-content/uploads/2025/11/community-1.webp
END:VEVENT
END:VCALENDAR